BEGIN:VCALENDAR
VERSION:2.0
PRODID:-//wp-events-plugin.com//5.99912//EN
TZID:Europe/Berlin
X-WR-TIMEZONE:Europe/Berlin
BEGIN:VEVENT
UID:3-11367@natur-umwelt.albverein.net
DTSTART;TZID=Europe/Berlin:20260923T073000
DTEND;TZID=Europe/Berlin:20260926T163000
DTSTAMP:20260421T135404Z
URL:https://natur-umwelt.albverein.net/termine/landschaftspflegeeinsatz-am
 -fuellmenbacher-hofberg/
SUMMARY:Landschaftspflegeeinsatz am Füllmenbacher Hofberg - Füllmenbacher
 hof - 23 Sep. 26 07:30
DESCRIPTION:Aktiv im Naturschutz arbeiten\, Gemeinschaft erleben und wunder
 schöne Natur genießen – das bietet der mehrtägige Landschaftspflegeei
 nsatz im Naturschutzgebiet Füllmenbacher Hofberg bei Sternenfels-Diefenba
 ch (Enzkreis). Der Schwäbische Albverein ist dabei auf viele helfende Hä
 nde von freiwilligen Helferinnen und Helfern angewiesen. Jetzt anmelden un
 d mit dabei sein!\n\nDas Naturschutzgebiet\n\nDer Füllmenbacher Hofberg b
 esteht vorrangig aus artenreichen Trockenrasenflächen\, die von Weinberge
 n und Waldflächen umrahmt werden. Das Gebiet ist ein optimaler Lebensraum
  für zahlreiche gefährdete Tiere und Pflanzen\, wie zum Beispiel das Pur
 pur-Knabenkraut – eine heimische Orchideenart. Damit dieser südexponier
 te Trockenrasen in seiner einzigartigen Struktur erhalten bleibt ist eine 
 regelmäßige Pflege notwendig. Nur so kann eine Verbuschung verhindert we
 rden. Der Landschaftspflegetrupp des Schwäbischen Albvereins sorgt gemein
 sam mit den ehrenamtlichen Helfern aus den Ortsgruppen seit über 30 Jahre
 n für diese Pflege.\n\nDer Einsatz\n\nDer Pflegetrupp mäht vor ab die Fl
 ächen und schneidet zugewucherte Areale aus. Die Aufgabe der Freiwilligen
  ist dann\, das angehäufte Schnitt- und Mähgut mit Rechen\, Heugabeln un
 d Planen an den Fuß des Berghangs zu schaffen\, wo es von einem Landwirt 
 zur abgeholt wird.\n\nNeben dem aktiven Einsatz für den Naturschutz\, erf
 ahren die Ehrenamtlichen mehr über die Bedeutung der Landschaftspflege zu
 m Erhalt artenreicher Kulturlandschaften. Zusätzlich bieten wir eine Exku
 rsion an\, bei der die Teilnehmenden mehr über die Flora und Fauna vor Or
 t und die Geschichte des Biotops erfahren.\n\nEckdaten\n\n 	Arbeitseinsatz
  von Mittwoch bis Samstag\, 23. bis 26. September\n 	Arbeitszeit von 7:30 
 Uhr bis 16:30 Uhr\, kann je nach Wetter abweichen\n 	Ende am Samstag gegen
  15 Uhr.\n 	Anzahl der Teilnehmenden: 10 Personen für den gesamten Zeitra
 um.\n 	Mindestalter für die Teilnahme: 18 Jahre\n\n\nAnreise\n\nMit dem P
 kw am Mittwoch\, 23. September\, bis 9:30 Uhr am Wanderheim Füllmenbacher
  Hof. Bei Anreise mit der Bahn ist der Treffpunkt um 9 Uhr am Bahnhof Müh
 lacker.\n\nUnsere Leistungen\n\n 	Unterkunft in unserem Wanderheim Füllme
 nbacher Hof\n 	Übernachtung in Gruppenräumen\, Vollverpflegung (Mithilfe
  bei der Küchenarbeit erwünscht).\nBitte bei Anmeldung angeben\, ob vega
 ne oder vegetarische Verpflegung erwünscht ist bzw. ob Allergien vorhande
 n sind.\n 	Naturkundliche Exkursion\n 	Naturgenuss und eine befriedigende 
 Arbeit im Freien bei der Landschaftspflege\n\n\nMitbringen\n\nFeste Schuhe
  und Arbeitskleidung\nHandschuhe und Arbeitsmaterial (Rechen\, Heugabeln e
 tc.) werden gestellt.\n\n\nKosten\nGesamter Zeitraum 50\,00 € (4 Tage) f
 ür Verpflegung und Übernachtung und eine kleine Exkursion. Teilnahme an 
 einzelnen Tagen (nach Absprache) 15 €. Die Teilnehmenden kümmern sich s
 elbst um ihre Anreise. Bitte Bettwäsche (3-teilig) wenn möglich mitbring
 en.\n\nAnmeldung beim Referat Naturschutz unter 0711 22585 -14 / -34 oder\
 nper E-Mail an naturschutz@schwaebischer-albverein.de
CATEGORIES:Natur und Umwelt
LOCATION:Füllmenbacherhof\, Wanderheim Füllmenbacherhof\, 75447 Sternenfe
 ls\, Baden-Württemberg\, 75447\, Sternenfels\, Deutschland
GEO:49.025686;8.881297
X-APPLE-STRUCTURED-LOCATION;VALUE=URI;X-ADDRESS=Wanderheim Füllmenbacherho
 f\, 75447 Sternenfels\, Baden-Württemberg\, 75447\, Sternenfels\, Deutsch
 land;X-APPLE-RADIUS=100;X-TITLE=Füllmenbacherhof:geo:49.025686,8.881297
END:VEVENT
BEGIN:VTIMEZONE
TZID:Europe/Berlin
X-LIC-LOCATION:Europe/Berlin
BEGIN:DAYLIGHT
DTSTART:20260329T030000
TZOFFSETFROM:+0100
TZOFFSETTO:+0200
TZNAME:CEST
END:DAYLIGHT
END:VTIMEZONE
END:VCALENDAR