BEGIN:VCALENDAR
VERSION:2.0
PRODID:-//wp-events-plugin.com//5.99912//EN
TZID:Europe/Berlin
X-WR-TIMEZONE:Europe/Berlin
BEGIN:VEVENT
UID:3-11368@natur-umwelt.albverein.net
DTSTART;TZID=Europe/Berlin:20260819T073000
DTEND;TZID=Europe/Berlin:20260822T163000
DTSTAMP:20260421T141341Z
URL:https://natur-umwelt.albverein.net/termine/landschaftspflegeeinatz-am-
 fusse-des-feldberges/
SUMMARY:Landschaftspflegeeinatz am Fuße des Feldberges -  - 19 Aug. 26 07:
 30
DESCRIPTION:Aktiv im Naturschutz arbeiten\, Gemeinschaft erleben und die wu
 nderschöne Natur am Fuße des Feldbergs genießen – das bietet der mehr
 tägige Landschaftspflegeeinsatz des Schwäbische Albvereins im August.\nH
 elfen Sie mit!\n\nDer Einsatz\n\nAuerwildbiotoppflege: Mithilfe bei der Re
 duzierung von Gehölzen im zu dichten Waldbestand zur Verbesserung des Leb
 ensraumes für das Auerwild. Zum Einsatz kommen Astscheren\, Handsägen so
 wie die Motorsäge. Aufgabe der Freiwilligen ist das Entfernen von Kleinge
 hölzen mit Astscheren und Handsägen und anschließend abräumen des Geh
 ölzschnittguts.\n\nNeben dem aktiven Einsatz für den Naturschutz\, erfah
 ren die Ehrenamtlichen mehr über das Auerhuhn und die Bedeutung der Lands
 chaftspflege.\n\nEckdaten\n\n 	Arbeitseinsatz von Mittwoch bis Samstag\, 1
 9. bis 22. September\n 	Arbeitszeit von 7:30 Uhr bis 16:30 Uhr\, kann je n
 ach Wetter abweichen\n 	Ende am Samstag gegen 15 Uhr.\n 	Anzahl der Teilne
 hmenden: 10 Personen für den gesamten Zeitraum.\n 	Mindestalter für die 
 Teilnahme: 18 Jahre\n\n\nAnreise und Treffpunkt wird noch bekannt gegeben.
 \n\nUnsere Leistungen\n\n 	Unterkunft im Wunderlichhof\n 	Übernachtung in
  Gruppenräumen\, Vollverpflegung (Mithilfe bei der Küchenarbeit erwünsc
 ht).\nBitte bei Anmeldung angeben\, ob vegane oder vegetarische Verpflegun
 g erwünscht ist bzw. ob Allergien vorhanden sind.\n 	Naturkundliche Exkur
 sion\n 	Naturgenuss und eine befriedigende Arbeit im Freien bei der Landsc
 haftspflege\n\n\nMitbringen\n\nFeste Schuhe und Arbeitskleidung\nHandschuh
 e und Arbeitsmaterial (Rechen\, Heugabeln etc.) werden gestellt.\n\n\nKost
 en\n50\,00 € für den gesamten Pflegeeinsaz für Verpflegung und Überna
 chtung und eine kleine Exkursion. Die Teilnehmenden kümmern sich selbst u
 m ihre Anreise.\n\nAnmeldung beim Referat Naturschutz unter 0711 22585 -14
  / -34 oder\nper E-Mail an naturschutz@schwaebischer-albverein.de\n\n&nbsp
 \;
CATEGORIES:Natur und Umwelt
END:VEVENT
BEGIN:VTIMEZONE
TZID:Europe/Berlin
X-LIC-LOCATION:Europe/Berlin
BEGIN:DAYLIGHT
DTSTART:20260329T030000
TZOFFSETFROM:+0100
TZOFFSETTO:+0200
TZNAME:CEST
END:DAYLIGHT
END:VTIMEZONE
END:VCALENDAR